BEGIN:VCALENDAR
VERSION:2.0
PRODID:-//RCCG The Fountain - ECPv4.6.16//NONSGML v1.0//EN
CALSCALE:GREGORIAN
METHOD:PUBLISH
X-WR-CALNAME:RCCG The Fountain
X-ORIGINAL-URL:https://rccgthefountain.org
X-WR-CALDESC:Events for RCCG The Fountain
BEGIN:VEVENT
DTSTART;VALUE=DATE:20170909
DTEND;VALUE=DATE:20170910
DTSTAMP:20260424T162147
CREATED:20170411T085555Z
LAST-MODIFIED:20170411T085555Z
UID:1334-1504915200-1505001599@rccgthefountain.org
SUMMARY:Good Women Conference
DESCRIPTION:
URL:https://rccgthefountain.org/event/good-women-conference/
CATEGORIES:Local Church Events
END:VEVENT
END:VCALENDAR