BEGIN:VCALENDAR
VERSION:2.0
PRODID:-//RCCG The Fountain - ECPv4.6.16//NONSGML v1.0//EN
CALSCALE:GREGORIAN
METHOD:PUBLISH
X-WR-CALNAME:RCCG The Fountain
X-ORIGINAL-URL:https://rccgthefountain.org
X-WR-CALDESC:Events for RCCG The Fountain
BEGIN:VEVENT
DTSTART;VALUE=DATE:20170805
DTEND;VALUE=DATE:20170806
DTSTAMP:20260424T174601
CREATED:20170411T082415Z
LAST-MODIFIED:20170411T082415Z
UID:1314-1501891200-1501977599@rccgthefountain.org
SUMMARY:Men of Excellence BBQ
DESCRIPTION:
URL:https://rccgthefountain.org/event/men-of-excellence-bbq/
LOCATION:RIMA House\, Barking\, Essex\, IG11 0RH
CATEGORIES:Local Church Events
ORGANIZER;CN="RCCG%20The%20Fountain":MAILTO:pastor@rccgthefountain.org
END:VEVENT
END:VCALENDAR